BEGIN:VCALENDAR
VERSION:2.0
PRODID:-//St. Elizabeth Shelters &amp; Supportive Housing - ECPv6.15.20//NONSGML v1.0//EN
CALSCALE:GREGORIAN
METHOD:PUBLISH
X-ORIGINAL-URL:https://steshelter.org
X-WR-CALDESC:Events for St. Elizabeth Shelters &amp; Supportive Housing
REFRESH-INTERVAL;VALUE=DURATION:PT1H
X-Robots-Tag:noindex
X-PUBLISHED-TTL:PT1H
BEGIN:VTIMEZONE
TZID:America/Denver
BEGIN:DAYLIGHT
TZOFFSETFROM:-0700
TZOFFSETTO:-0600
TZNAME:MDT
DTSTART:20240310T090000
END:DAYLIGHT
BEGIN:STANDARD
TZOFFSETFROM:-0600
TZOFFSETTO:-0700
TZNAME:MST
DTSTART:20241103T080000
END:STANDARD
BEGIN:DAYLIGHT
TZOFFSETFROM:-0700
TZOFFSETTO:-0600
TZNAME:MDT
DTSTART:20250309T090000
END:DAYLIGHT
BEGIN:STANDARD
TZOFFSETFROM:-0600
TZOFFSETTO:-0700
TZNAME:MST
DTSTART:20251102T080000
END:STANDARD
BEGIN:DAYLIGHT
TZOFFSETFROM:-0700
TZOFFSETTO:-0600
TZNAME:MDT
DTSTART:20260308T090000
END:DAYLIGHT
BEGIN:STANDARD
TZOFFSETFROM:-0600
TZOFFSETTO:-0700
TZNAME:MST
DTSTART:20261101T080000
END:STANDARD
END:VTIMEZONE
BEGIN:VEVENT
DTSTART;VALUE=DATE:20251108
DTEND;VALUE=DATE:20251109
DTSTAMP:20260424T072307
CREATED:20250206T224718Z
LAST-MODIFIED:20250206T224718Z
UID:773-1762560000-1762646399@steshelter.org
SUMMARY:Hungry Mouth Festival
DESCRIPTION:
URL:https://steshelter.org/event/hungry-mouth-festival/
END:VEVENT
BEGIN:VEVENT
DTSTART;TZID=America/Denver:20250502T173000
DTEND;TZID=America/Denver:20250502T210000
DTSTAMP:20260424T072307
CREATED:20250206T224637Z
LAST-MODIFIED:20250409T033607Z
UID:771-1746207000-1746219600@steshelter.org
SUMMARY:Hello May\, Spring Soiree
DESCRIPTION:Tickets available at: https://shorturl.at/VcEl8
URL:https://steshelter.org/event/hello-may-spring-soiree/
LOCATION:As Above So Below\, 545 Camino de la Familia\, Santa Fe\, NM\, 87501\, United States
ATTACH;FMTTYPE=image/jpeg:https://steshelter.org/wp-content/uploads/2025/02/hmss-1.jpg
END:VEVENT
END:VCALENDAR